BEGIN:VCALENDAR
VERSION:2.0
PRODID:-//Indian Economic Trade Organization - ECPv6.15.20//NONSGML v1.0//EN
CALSCALE:GREGORIAN
METHOD:PUBLISH
X-WR-CALNAME:Indian Economic Trade Organization
X-ORIGINAL-URL:https://ieto.online
X-WR-CALDESC:Events for Indian Economic Trade Organization
REFRESH-INTERVAL;VALUE=DURATION:PT1H
X-Robots-Tag:noindex
X-PUBLISHED-TTL:PT1H
BEGIN:VTIMEZONE
TZID:Asia/Kolkata
BEGIN:STANDARD
TZOFFSETFROM:+0530
TZOFFSETTO:+0530
TZNAME:IST
DTSTART:20240101T000000
END:STANDARD
END:VTIMEZONE
BEGIN:VEVENT
DTSTART;TZID=Asia/Kolkata:20250519T080000
DTEND;TZID=Asia/Kolkata:20250519T170000
DTSTAMP:20260420T071606
CREATED:20250424T042541Z
LAST-MODIFIED:20250424T042541Z
UID:17653-1747641600-1747674000@ieto.online
SUMMARY:Delegation to Malaysia May 18th-21st 2025
DESCRIPTION:Business Delegation to Kuala Lumpur Malaysia is proposed May18-21st 2025 and the schedule is as follows: \n1. Participants from SME bureau\n2. ⁠Presentation of Pahang halal hub (Dato Nizar)\n3. ⁠Presentation on Indian Street project in Klang\n4. ⁠Parliament visit can be Arranged but only on weekdays\n5. ⁠factory or corporate visit \nThere is India Malaysia business meeting scheduled on the 19th May at the Intercontinental Hotel. Kuala Lumpur with businessmen from both sides meeting and deliberating on possiblities of business partnerships.
URL:https://ieto.online/event/delegation-to-malaysia-may-18th-21st-2025/
LOCATION:intercontinental hotel\, kuala lumpur\, Malaysia\, Malaysia
ORGANIZER;CN="Global Diplomacy":MAILTO:secretariat@ieto.in
END:VEVENT
BEGIN:VEVENT
DTSTART;TZID=Asia/Kolkata:20250510T090000
DTEND;TZID=Asia/Kolkata:20250511T170000
DTSTAMP:20260420T071606
CREATED:20250213T051130Z
LAST-MODIFIED:20250324T172829Z
UID:17294-1746867600-1746982800@ieto.online
SUMMARY:Join the Delegation to Algeria
DESCRIPTION:The India Africa Trade Council invites you to be part of an exclusive business delegation to Algeria on May 10-11 at the Sheraton\, Staoueli. As a key participant in the Africa Forum\, this is a unique opportunity to network with industry leaders\, explore trade partnerships\, and connect with buyers and sellers across multiple sectors. Whether you’re in energy\, agriculture\, infrastructure\, manufacturing\, or pharmaceuticals\, Algeria offers vast business potential. Don’t miss this chance to expand your presence in North Africa—register now! \nJoin the Premier Economic Event in Africa\nAFIC11 Africa Investment & Trade Forum\n“African Integration & Prosperity”\nMay 10-11\, 2025 Sheraton Hotel–Algiers\, Algeria\n+1\,000 International Participants including decision-makers\, investors\, and experts\n+200 Exhibitors covering various economic sectors\n+43 Countries from Africa\, the Middle East\, and Europe\n+300 B2B to establish partnerships and business deals \nWhy Should You Be Part of AFIC11?\nConnect with Global Business Leaders & Investors\nAccess Exclusive Opportunities for Deals & Strategic Partnerships\nExplore the Latest Trends in Investment\, Trade\, Technology\, Energy\, Finance\, and More\nAttend High-Level Conferences\, Workshops\, and Large-Scale Exhibitions \nRegister Now & Be Part of Africa’s Economic Transformation!\n📞 For Inquiries & Participation: \n\n← Back Thank you for your response. ✨\n\n\n					\n						\n							\n							\n						\n						\n						\n						\n						\n							\n								\n									\n										\n										\n									\n									\n										\n										\n									\n								\n							\n						\n						\n							\n								\n									\n									\n										\n									\n									\n									\n								\n							\n						\n					\n				\n\n\n\nName(required)\n\n \n			\n				\n					\n						\n						\n						\n					\n				\n				\n			 \n	\n\n\nEmail(required)\n\n \n			\n				\n					\n						\n						\n						\n					\n				\n				\n			 \n	\n\n\nWebsite\n\n \n			\n				\n					\n						\n						\n						\n					\n				\n				\n			 \n	\n\n\nMessage\n\n \n			\n				\n					\n						\n						\n						\n					\n				\n				\n			\n	\n	\n\n				\n					\n				\n						Submit		\n		\n		\n	 \nΔ
URL:https://ieto.online/event/join-the-delegation-to-algeria/
LOCATION:Sheraton Algeria\, Boite Postale 62\, Staoueli\, 16101\, Algeria
CATEGORIES:AFRICA
ATTACH;FMTTYPE=image/jpeg:https://ieto.online/wp-content/uploads/2025/02/Algeria-Event.jpg
END:VEVENT
BEGIN:VEVENT
DTSTART;TZID=Asia/Kolkata:20250505T080000
DTEND;TZID=Asia/Kolkata:20250508T170000
DTSTAMP:20260420T071606
CREATED:20250324T174347Z
LAST-MODIFIED:20250324T174506Z
UID:17588-1746432000-1746723600@ieto.online
SUMMARY:Join us for a delegation to Tunisia
DESCRIPTION:The India Africa Trade Council (IATC) is organizing a high-level business delegation to Tunis\, Tunisia\, from May 5-8\, 2025\, bringing together key stakeholders from Northern Africa\, Europe\, and India. This delegation will provide a platform for businesses to explore trade and investment opportunities\, foster collaborations\, and engage with influential decision-makers. \nKey Highlights:\n🔹 Participation in FITA 2025 – Attend the 8th edition of the Financing Investment and Trade in Africa (FITA 2025)\, organized by the Tunisia Africa Business Council (TABC) on May 6-7\, 2025\, at the Radisson Blu Hotel\, Tunis. The event will focus on Africa’s transformation across various sectors\, including industrialization\, digital economy\, energy\, infrastructure\, and logistics. \n🔹 B2B Meetings & Networking – Engage with leading business delegations from across Northern Africa and Europe\, fostering trade partnerships and exploring new markets. \n🔹 Sector-Specific Opportunities – Gain insights into emerging industries and potential areas of collaboration between India and Africa. \n🔹 Cultural & Market Exposure – Experience Tunisia’s business environment and cultural richness through networking sessions and local engagements. \nTentative Schedule:\n📌 May 5: Arrival in Tunis\, welcome networking session.📌 May 6-7: Participation in FITA 2025\, B2B meetings\, industry discussions.📌 May 8: Follow-up meetings and departure. \nThis delegation presents a strategic opportunity for Indian businesses looking to expand in Africa and Europe. We invite entrepreneurs\, investors\, and industry leaders to join and explore new possibilities for growth. \n📩 For participation details\, contact the India Africa Trade Council (IATC). \nNote: The schedule and details may be subject to updates. \n\n\n← Back Thank you for your response. ✨\n\n\n					\n						\n							\n							\n						\n						\n						\n						\n						\n							\n								\n									\n										\n										\n									\n									\n										\n										\n									\n								\n							\n						\n						\n							\n								\n									\n									\n										\n									\n									\n									\n								\n							\n						\n					\n				\n\n\n\nName(required)\n\n \n			\n				\n					\n						\n						\n						\n					\n				\n				\n			 \n	\n\n\nEmail(required)\n\n \n			\n				\n					\n						\n						\n						\n					\n				\n				\n			 \n	\n\n\nWebsite\n\n \n			\n				\n					\n						\n						\n						\n					\n				\n				\n			 \n	\n\n\nMessage\n\n \n			\n				\n					\n						\n						\n						\n					\n				\n				\n			\n	\n	\n\n				\n					\n				\n						Submit		\n		\n		\n	 \nΔ
URL:https://ieto.online/event/join-us-for-a-delegation-to-tunisia/
CATEGORIES:AFRICA
END:VEVENT
BEGIN:VEVENT
DTSTART;TZID=Asia/Kolkata:20250427T090000
DTEND;TZID=Asia/Kolkata:20250502T160000
DTSTAMP:20260420T071606
CREATED:20250213T050045Z
LAST-MODIFIED:20250213T050045Z
UID:17290-1745744400-1746201600@ieto.online
SUMMARY:Delegation to Tehran\, Iran
DESCRIPTION:The Indian Economic Trade Organization (IETO) is leading a business delegation to Tehran\, Iran\, at the end of April to explore trade and investment opportunities. Delegates will engage with buyers\, sellers\, and key industry leaders\, maximising their time through B2B meetings and networking. The team will also attend a major expo in Tehran\, fostering bilateral trade collaborations. Iran offers lucrative energy\, pharmaceuticals\, agriculture\, and manufacturing prospects for Indian businesses. Join the IETO delegation to expand your global business footprint in Iran! \n\n← Back Thank you for your response. ✨\n\n\n					\n						\n							\n							\n						\n						\n						\n						\n						\n							\n								\n									\n										\n										\n									\n									\n										\n										\n									\n								\n							\n						\n						\n							\n								\n									\n									\n										\n									\n									\n									\n								\n							\n						\n					\n				\n\n\n\nName(required)\n\n \n			\n				\n					\n						\n						\n						\n					\n				\n				\n			 \n	\n\n\nEmail(required)\n\n \n			\n				\n					\n						\n						\n						\n					\n				\n				\n			 \n	\n\n\nWebsite\n\n \n			\n				\n					\n						\n						\n						\n					\n				\n				\n			 \n	\n\n\nMessage\n\n \n			\n				\n					\n						\n						\n						\n					\n				\n				\n			\n	\n	\n\n				\n					\n				\n						Submit		\n		\n		\n	 \nΔ
URL:https://ieto.online/event/india-iran-trade-opportunities/
END:VEVENT
BEGIN:VEVENT
DTSTART;TZID=Asia/Kolkata:20250412T080000
DTEND;TZID=Asia/Kolkata:20250415T170000
DTSTAMP:20260420T071606
CREATED:20250209T044520Z
LAST-MODIFIED:20250304T065139Z
UID:17140-1744444800-1744736400@ieto.online
SUMMARY:Delegation to Brunei Darus Salaam
DESCRIPTION:We invite you to join an exclusive business delegation to Brunei from 15th to 18th April 2025\, departing from Chennai early morning on 15th April and returning on the night of 19th April. This delegation will be led by Mr. Asif Iqbal\, President\, Indian Economic Trade Organisation\, and Dr. M S Prakash\, Trade Commissioner – ASEAN Countries. \nThis visit is open to entrepreneurs from all trades and businesses\, with a special emphasis on IT\, Biotechnology  (BT)\, Solar Energy\, and Pharmaceuticals. It offers an excellent opportunity to explore trade partnerships\, investment prospects\, and collaborations with Brunei’s dynamic business ecosystem. The delegation will experience Brunei’s renowned hospitality and the spirit of friendship\, fostering meaningful connections for future cooperation. \nThe itinerary includes meetings with government and private sector leaders\, visits to companies and factories\, and networking sessions at Hotel Empire\, Brunei. Accommodation will be provided in 4-star or 3-star hotels. \nBeyond business\, delegates will also get to experience Brunei’s cultural and natural wonders\, including the Royal Regalia Museum\, the breathtaking Omar Ali Saifuddien Mosque\, the iconic Kampong Ayer water village\, and the lush Ulu Temburong National Park. \nAs airfares are rising\, we highly recommend earlier confirmation and reservations to ensure lower travel costs.\nProposed Agenda:\n12th April – Depart from Chennai 4.10AM Arriving in Brunei at 12.30 PM\n12th Evening- Local Traditional Dinner and sightseeing\n13th-Interaction B2B with business and Evening 6PM- Gala Dinner India ASEAN Awards Function \n14th-Market Local and meetings with business men\, visit to factory and companies\, Ministers\, officials.\n15th- Depart from Brunei to Chennai arrival 10PM in Chennai. \nRSVP by 23rd February 2025 to confirm your participation. \nBest regards\, \nDr M S Prakash
URL:https://ieto.online/event/delegation-to-brunei-darus-salaam/
LOCATION:Hotel Empire\, Jerudong\, Tutong Muara Highway\, Bandar Seri Begawan\, BG3122\, Brunei Darussalam\, Brunei\, Brunei Darussalam
CATEGORIES:ASEAN
ATTACH;FMTTYPE=image/gif:https://ieto.online/wp-content/uploads/2025/02/Brunei-map-boundaries-cities-locator.gif
ORGANIZER;CN="India ASEAN Trade Council":MAILTO:secretariat@aseanindia.org
END:VEVENT
BEGIN:VEVENT
DTSTART;TZID=Asia/Kolkata:20250408T080000
DTEND;TZID=Asia/Kolkata:20250410T170000
DTSTAMP:20260420T071606
CREATED:20250324T183509Z
LAST-MODIFIED:20250324T183509Z
UID:17596-1744099200-1744304400@ieto.online
SUMMARY:Delegation to Bangladesh
DESCRIPTION:The Indian Economic Trade Organization (IETO) is leading a business delegation to Bangladesh from April 8-10\, 2025\, aimed at strengthening bilateral trade and investment opportunities. The delegation will engage with key industry leaders\, government representatives\, and business stakeholders to explore collaborations in sectors such as manufacturing\, textiles\, IT\, healthcare\, and infrastructure. \nThe visit will include B2B meetings\, networking sessions\, and discussions on expanding economic partnerships between India and Bangladesh. This delegation presents a valuable opportunity for businesses looking to expand in one of South Asia’s fastest-growing markets. \n📩 For more details on participation\, stay tuned. \n\n← Back Thank you for your response. ✨\n\n\n					\n						\n							\n							\n						\n						\n						\n						\n						\n							\n								\n									\n										\n										\n									\n									\n										\n										\n									\n								\n							\n						\n						\n							\n								\n									\n									\n										\n									\n									\n									\n								\n							\n						\n					\n				\n\n\n\nName(required)\n\n \n			\n				\n					\n						\n						\n						\n					\n				\n				\n			 \n	\n\n\nEmail(required)\n\n \n			\n				\n					\n						\n						\n						\n					\n				\n				\n			 \n	\n\n\nWebsite\n\n \n			\n				\n					\n						\n						\n						\n					\n				\n				\n			 \n	\n\n\nMessage\n\n \n			\n				\n					\n						\n						\n						\n					\n				\n				\n			\n	\n	\n\n				\n					\n				\n						Submit		\n		\n		\n	 \nΔ
URL:https://ieto.online/event/delegation-to-bangladesh/
END:VEVENT
BEGIN:VEVENT
DTSTART;TZID=Asia/Kolkata:20250406T080000
DTEND;TZID=Asia/Kolkata:20250409T170000
DTSTAMP:20260420T071606
CREATED:20250324T175634Z
LAST-MODIFIED:20250324T175634Z
UID:17593-1743926400-1744218000@ieto.online
SUMMARY:Commonwealth Delegation to London
DESCRIPTION:The Commonwealth Trade and Investment Summit (CTIS)\, in collaboration with the India Commonwealth Trade Council\, will take place from April 5-9\, 2025\, bringing together Commonwealth Heads of Government\, senior Ministers\, policymakers\, and business leaders to advance trade and investment priorities across the Commonwealth. \nFollowing the Commonwealth Business Forum and Commonwealth Heads of Government Meeting (CHOGM) in Samoa (October 2024)\, this invitation-only Summit will serve as a high-level platform to address critical economic challenges\, foster collaboration\, and strengthen business engagement within the Commonwealth. \nCTIS 2025 will feature plenary sessions\, high-level roundtables\, and exclusive networking opportunities\, allowing for impactful discussions and strategic partnerships. \n📩 Participation is by invitation only. More details will be shared with confirmed attendees.
URL:https://ieto.online/event/commonwealth-delegation-to-london/
CATEGORIES:COMMONWEALTH
END:VEVENT
BEGIN:VEVENT
DTSTART;VALUE=DATE:20250402
DTEND;VALUE=DATE:20250507
DTSTAMP:20260420T071606
CREATED:20250304T064432Z
LAST-MODIFIED:20250304T064432Z
UID:17506-1743552000-1746575999@ieto.online
SUMMARY:Delegation to Sierra Leone
DESCRIPTION:The India Africa Trade Council (IATC) is leading a business delegation to Sierra Leone from 2nd to 6th April 2025\, focusing on expanding trade and investment ties. The delegation will meet government ministers\, private sector leaders\, and business chambers to explore opportunities in agriculture\, infrastructure\, energy\, and trade facilitation. This visit aims to strengthen bilateral partnerships and assess new avenues for collaboration\, reinforcing India’s commitment to economic engagement with Sierra Leone and the broader African region.
URL:https://ieto.online/event/delegation-to-sierra-leone/
LOCATION:Freetown\, Sierra Leone
CATEGORIES:AFRICA
ATTACH;FMTTYPE=image/png:https://ieto.online/wp-content/uploads/2025/03/SL-Image.png
ORGANIZER;CN="India Africa Trade Council":MAILTO:secretariat@indafrica.org
END:VEVENT
BEGIN:VEVENT
DTSTART;TZID=Asia/Kolkata:20250322T180000
DTEND;TZID=Asia/Kolkata:20250322T210000
DTSTAMP:20260420T071606
CREATED:20250217T102407Z
LAST-MODIFIED:20250217T102548Z
UID:17379-1742666400-1742677200@ieto.online
SUMMARY:ASIAN ARAB AWARDS 2025-BAHRAIN
DESCRIPTION:ASIAN ARAB AWARDS BAHRAIN 2025\n22 March 2025\nCROWN PLAZA HOTEL BAHRAIN\nA hallmark of successful business enterprises in Bahrain.\nThe AACC Awards program honors innovation and excellence in business design\, Excellence\, historical context\, educational value\, and public appeal. The AACC Award program’s mission is to develop interest and passion for Excellence in Trade and Commerce\, and to further its strategic role in the society between Asian and Arab world. \nAACC Awards program is the annual program ever created to recognize the best practices in various fields of trade and commerce and values between the two continents. This program includes recognizing the individuals\, institutions\, business houses\, as well as public installations. AACC Awards has as its primary purpose to elevate the importance and relevancy of values in trade and commerce in the world today: economically\, socially\, and culturally. AACC endeavors to be world renowned as the premier awards and recognition program. \nMore than 30 dedicated professionals from 18 countries across Asian and Arab continents are the greatest assets to Asian Arab Chamber of Commerce Advisory board. With extensive experience in trade academia\, technology and business\, they are committed to the AACC program and its mission and ensure its future growth and success. \nThe Award program acknowledges the accomplishments of the nominees and celebrates the award winners. Through association\, the program also benefits the public image and branding of its partners and supporters. \nThe AACC Awards program attracts a heightened interest of global business houses\, and the sophisticated market affiliated with the world of value-based commerce; and engages existing supporters of these institutional values. The award ceremony is exclusive and prestigious\, garnering national and international media exposure. \nSend your nominations now:
URL:https://ieto.online/event/asian-arab-awards-2025-bahrain/
LOCATION:Crown Plaza Bahrain\, Diplomatic Area 317\, Manama\, Bahrain
CATEGORIES:GCC
ATTACH;FMTTYPE=image/jpeg:https://ieto.online/wp-content/uploads/2025/02/WhatsApp-Image-2025-02-17-at-3.53.15-PM.jpeg
END:VEVENT
BEGIN:VEVENT
DTSTART;TZID=Asia/Kolkata:20250315T180000
DTEND;TZID=Asia/Kolkata:20250315T210000
DTSTAMP:20260420T071606
CREATED:20250217T080853Z
LAST-MODIFIED:20250217T080853Z
UID:17365-1742061600-1742072400@ieto.online
SUMMARY:ASIAN ARAB AWARDS -JEDDAH SAUDI ARABIA
DESCRIPTION:An annual award during the Holy month of Ramadan that recognizes individuals and institutions for their contributions to social\, economic\, and political transformation through Peace. \nThe Asian Arab Peace for Economy Awards are awarded by the Asian Arab Chamber of Commerce. These Economy for Peace Awards are presented by an independent committee of Saudi Royal family members under the Royal Patronage of HRH General Dr Abdul Aziz Bin Naser Al Saud who is a retired accomplished senior member of the Royal family in Saudi Arabia. \nAsian Arab Awards will be highlighting & awarding the innovation of new ideas and their execution towards the different sector’s growth that contributes to the economy\, employment\, culture\, the quality of hospitality\, and the prosperity of Saudi Arabia. This is the opportunity that can bring together different governments\, businesses of various sectors\, NGOs etc. to share and celebrate the work towards positioning Saudi as the most favorable destination.\nPlease click on the presentation below.\nAACC15MR Ramadan Awards Jeddah
URL:https://ieto.online/event/asian-arab-awards-jeddah-saudi-arabia/
LOCATION:Ritz Carlton Jeddah\, Jeddah\, Jeddah\, Saudi Arabia
CATEGORIES:GCC
ATTACH;FMTTYPE=image/jpeg:https://ieto.online/wp-content/uploads/2025/02/e79fdfa7-5374-4809-ba0d-5a1378cabc70.jpeg
END:VEVENT
BEGIN:VEVENT
DTSTART;TZID=Asia/Kolkata:20250310T173000
DTEND;TZID=Asia/Kolkata:20250310T210000
DTSTAMP:20260420T071606
CREATED:20250304T043743Z
LAST-MODIFIED:20250304T054700Z
UID:17495-1741627800-1741640400@ieto.online
SUMMARY:ASIAN ARAB RAMADAN AWARDS 2025 - DUBAI
DESCRIPTION:​The Asian Arab Awards 2025 offers a unique platform to honour the exceptional achievements in Ramadan. Unlike traditional awards that rely on expert panels\, this event empowers the audience to have their say\, recognizing the most impactful creative works across the Asian Arab Continent. \n​As the leading platform for celebrating Excellence during Ramadan\, the Asian Arab Awards 2025 places the audience in the spotlight. Various achievers who have excelled in their field will be the centre of this program. \nBy Invitation only! Attendance confirmation after RSVP. \n 
URL:https://ieto.online/event/asian-arab-ramadan-awards-2025-dubai/
CATEGORIES:GCC
ATTACH;FMTTYPE=image/jpeg:https://ieto.online/wp-content/uploads/2025/03/WhatsApp-Image-2025-03-04-at-11.14.55-AM.jpeg
END:VEVENT
BEGIN:VEVENT
DTSTART;VALUE=DATE:20250228
DTEND;VALUE=DATE:20250302
DTSTAMP:20260420T071606
CREATED:20250209T174242Z
LAST-MODIFIED:20250217T101011Z
UID:17174-1740700800-1740873599@ieto.online
SUMMARY:Tamil Nadu Economic Diplomacy Summit 2025
DESCRIPTION:On Feb 28th 2025\, the Nehru Group\, Coimbatore will be hosting its annual Tamil Nadu Economic Diplomacy Summit 2025\, bringing together Diplomats and Missions of different countries from 21 countries to engage in high-level discussions and activities in India and its promotion of Economic relations. This summit will focus on understanding and addressing the current geopolitical landscape\, particularly the role of India in International Multilateral diplomacy and the United Nations in global diplomacy\, with a special emphasis on Tamil Nadu state and deepening economic relationships with various foreign nations. This intensive conference provides the participants with deep insights into the workings of key international institutions\, fostered networking among Diplomatic missions and business leaders\, and reinforces the commitment to strengthen the engagements with various nations and promoting Tamil Nadu state and its economic standing globally.
URL:https://ieto.online/event/tamil-nadu-economic-diplomacy-summit-2025/
LOCATION:Nehru Group\, 451-D\, Palakkad - Coimbatore Rd\, Rathinapuri\, Thirunavukarsu Nagar\, Kuniyamuthur\, Coimbatore\, Tamil Nadu\, 641008\, India
CATEGORIES:INDIA
ATTACH;FMTTYPE=image/png:https://ieto.online/wp-content/uploads/2025/02/Event-Organizer-Presentation-3.png
ORGANIZER;CN="Global Diplomacy":MAILTO:secretariat@ieto.in
END:VEVENT
BEGIN:VEVENT
DTSTART;TZID=Asia/Kolkata:20250221T180000
DTEND;TZID=Asia/Kolkata:20250221T213000
DTSTAMP:20260420T071606
CREATED:20250208T064654Z
LAST-MODIFIED:20250208T064654Z
UID:17070-1740160800-1740173400@ieto.online
SUMMARY:India Latin American Meeting Abu Dhabi February 2025
DESCRIPTION:Global Diplomacy is Organizing the Latin American Ambassadors\, government officials\, Indigenous leaders and experts from academia\, multilateral organizations and civil society will attend the IETO Latin American Gathering at the Forum’s Annual Meeting 2025 in Abu Dhabi\nEnvironmental resilience and the region’s economic fortunes in a fragmented world are some of the debates they will engage with.
URL:https://ieto.online/event/india-latin-american-meeting-abu-dhabi-february-2025/
LOCATION:Abu Dhabi\, Hamdan Street\, Abu Dhabi\, abu dhabi\, United Arab Emirates
END:VEVENT
BEGIN:VEVENT
DTSTART;TZID=Asia/Kolkata:20250219T080000
DTEND;TZID=Asia/Kolkata:20250223T170000
DTSTAMP:20260420T071606
CREATED:20250209T131640Z
LAST-MODIFIED:20250209T131640Z
UID:17165-1739952000-1740330000@ieto.online
SUMMARY:Delegation to Ethiopia
DESCRIPTION:Call for Participation in the 15th Specialized International Agriculture and Food Exhibition (AGRIFEX-ETHIOΡΙΑ 2025)\nFebruary 20-22\, 2025 at Addis Ababa Millennium Hall.  \nThe Addis Ababa Chamber of Commerce and Sectoral Associations presents its compliments to all participants of the IETO and has the honor to inform that it will hold the 15th Agriculture and Food Specialized International Trade Fair from Feb 20-22.  As a leading Fair of international stature\, the Agriculture and Food Fair aims at bringing together the best from the Agriculture and Food Sectors in Ethiopia and abroad. They will showcase the expertise of all that will be brought to just one venue by players from the world over. Therefore\, Addis Ababa Chamber cordially invites your esteemed organization to attend this grand event. You can also access the website: http://www.tradefair.addischamber.com Your prompt action in registering for the 15th International Agriculture and Food Fair is cordially awaited for and appreciated.\nPlease contact Mr. Babu Parameshwaran who is in charge of this delegation.\n+91 96546 51239
URL:https://ieto.online/event/delegation-to-ethiopia/
LOCATION:AA Millenium Hall Ethiopia\, Addis Ababa\, Ethiopia
CATEGORIES:AFRICA
ORGANIZER;CN="India Africa Trade Council":MAILTO:secretariat@indafrica.org
END:VEVENT
BEGIN:VEVENT
DTSTART;TZID=Asia/Kolkata:20250218T110000
DTEND;TZID=Asia/Kolkata:20250218T140000
DTSTAMP:20260420T071606
CREATED:20250208T064045Z
LAST-MODIFIED:20250208T064045Z
UID:17064-1739876400-1739887200@ieto.online
SUMMARY:India EU Meeting-Finland in Pune in Feb 2025
DESCRIPTION:The India EU Trade Council has organized the traditional university seminar for students and members in Pune which will be held on 18th February 2025. Representatives from economics\, business economics\, public administration\, and the business community\, as well as others interested in the seminar’s themes\, are welcome to attend. The Consul General will address at The College of Engineering Pune Technological University which is a unitary public university of the Government of Maharashtra\, situated in Pune\, Maharashtra\, India. \nPlease click and register here for attending :
URL:https://ieto.online/event/india-eu-meeting-finland-in-pune-in-feb-2025/
LOCATION:College of engineering pune\, Wellesely Rd\, Shivajinagar\, P\, Pune\, maharastra\, 411 005\, India
ORGANIZER;CN="India EU Trade Council":MAILTO:secretariat@ietoglobal.org
END:VEVENT
END:VCALENDAR